BEGIN:VCALENDAR
VERSION:2.0
PRODID:-//Gnatty Branch Village - ECPv5.16.4//NONSGML v1.0//EN
CALSCALE:GREGORIAN
METHOD:PUBLISH
X-WR-CALNAME:Gnatty Branch Village
X-ORIGINAL-URL:http://gnattybranchvillage.com
X-WR-CALDESC:Events for Gnatty Branch Village
BEGIN:VTIMEZONE
TZID:America/Halifax
BEGIN:DAYLIGHT
TZOFFSETFROM:-0400
TZOFFSETTO:-0300
TZNAME:ADT
DTSTART:20160313T060000
END:DAYLIGHT
BEGIN:STANDARD
TZOFFSETFROM:-0300
TZOFFSETTO:-0400
TZNAME:AST
DTSTART:20161106T050000
END:STANDARD
END:VTIMEZONE
BEGIN:VEVENT
DTSTART;VALUE=DATE:20160319
DTEND;VALUE=DATE:20160419
DTSTAMP:20260425T020955
CREATED:20160115T040648Z
LAST-MODIFIED:20160115T040648Z
UID:179-1458345600-1461023999@gnattybranchvillage.com
SUMMARY:Festival of Nations at Dollywood
DESCRIPTION:Festival of Nations at Dollywood\nDollywood’s Festival of Nations presented by Humana displays the most captivating entertainment from around the world\nduring this month-long celebration of music\, dance\, food and art.
URL:http://gnattybranchvillage.com/event/festival-of-nations-at-dollywood/
LOCATION:Dollywood\, 2700 Dollywood Parks Blvd.\, Pigeon Forge\, TN\, 37863\, United States
ATTACH;FMTTYPE=image/png:http://gnattybranchvillage.com/wp-content/uploads/2016/01/Dollywood-FN.png
END:VEVENT
END:VCALENDAR